BEGIN:VCALENDAR
VERSION:2.0
PRODID:icalendar-ruby
CALSCALE:GREGORIAN
METHOD:PUBLISH
BEGIN:VTIMEZONE
TZID:Australia/Sydney
BEGIN:DAYLIGHT
DTSTART:20261004T030000
TZOFFSETFROM:+1000
TZOFFSETTO:+1100
RRULE:FREQ=YEARLY;BYDAY=1SU;BYMONTH=10
TZNAME:AEDT
END:DAYLIGHT
BEGIN:STANDARD
DTSTART:20260405T020000
TZOFFSETFROM:+1100
TZOFFSETTO:+1000
RRULE:FREQ=YEARLY;BYDAY=1SU;BYMONTH=4
TZNAME:AEST
END:STANDARD
END:VTIMEZONE
BEGIN:VEVENT
DTSTAMP:20260420T072822Z
UID:inspection_3004960
DTSTART;TZID=Australia/Sydney:20260506T173000
DTEND;TZID=Australia/Sydney:20260506T180000
CLASS:PUBLIC
CREATED:20260420T131650
DESCRIPTION: 
LAST-MODIFIED:20260420T131650
LOCATION:49 / 1 Ingold Street\, COOMBS ACT 2611\, Australia
SUMMARY:49 / 1 Ingold Street\,  Inspection
URL;VALUE=URI:http://www.mingsunrealestate.com/
END:VEVENT
END:VCALENDAR
